BEGIN:VCALENDAR
VERSION:2.0
PRODID:-//Ukraine open for business - ECPv5.4.0.2//NONSGML v1.0//EN
CALSCALE:GREGORIAN
METHOD:PUBLISH
X-WR-CALNAME:Ukraine open for business
X-ORIGINAL-URL:https://open4business.com.ua
X-WR-CALDESC:Події за Ukraine open for business
BEGIN:VTIMEZONE
TZID:Europe/Kiev
BEGIN:DAYLIGHT
TZOFFSETFROM:+0200
TZOFFSETTO:+0300
TZNAME:EEST
DTSTART:20260329T010000
END:DAYLIGHT
BEGIN:STANDARD
TZOFFSETFROM:+0300
TZOFFSETTO:+0200
TZNAME:EET
DTSTART:20261025T010000
END:STANDARD
END:VTIMEZONE
BEGIN:VEVENT
DTSTART;TZID=Europe/Kiev:20260331T080000
DTEND;TZID=Europe/Kiev:20260509T170000
DTSTAMP:20260419T163614
CREATED:20260331T115153Z
LAST-MODIFIED:20260331T115153Z
UID:283853-1774944000-1778346000@open4business.com.ua
SUMMARY:Rivne Invest Forum 2026 збере понад 500 інвесторів та підприємців 8–9 травня
DESCRIPTION:Цієї весни Рівне перетвориться на центр ділової активності західної України. 8–9 травня 2026 року у селі Велика Омеляна відбудеться Rivne Invest Forum 2026 – найбільша бізнес-подія регіону\, яка збере понад 500 інвесторів\, підприємців\, девелоперів і представників бізнес-спільнот для створення нових партнерств та укладення угод. \nФорум організовує бізнес-спільнота Board разом з Lviv Invest Forum та АФНУ.  \nRivne Invest Forum – платформа для усвідомлених інвестицій та довгострокових партнерств. У фокусі – масштабування бізнесу\, залучення капіталу та розвиток регіональної економіки в умовах нової економічної реальності. \nКлючові спікери форуму: \n\nАндрій Длігач (Advanter Group\, Board)\nІгор Мазепа (Concorde Capital)\nАртур Міхно (Work.ua)\nТарас Кицмей (SoftServe)\nпредставники Horizon Capital\, Edem Family\, BK Investment\, Franchise Group та інші інвестори й CEO\n\nПрограма включає експертні виступи\, панельні дискусії\, презентації інвестпроєктів\, пітчі стартапів\, Invest Expo\, інвестиційний аукціон та закриті нетворкінг-формати. \nСеред тематичних напрямів – житлова та відпочинкова нерухомість\, M&A\, фондовий ринок\, криптовалюти\, ІТ та технології\, франшизи\, альтернативні інвестиції\, медицина\, освіта\, земля та девелопмент. \nОрганізатори очікують понад 500 учасників – інвесторів\, підприємців\, девелоперів\, представників фондів та стартап-екосистеми. \nДля членів Board передбачена знижка 20 % на всі квитки. Діють ранні ціни до 1 березня 2026 року. \nРеєстрація та деталі – rivne-invest.com
URL:https://open4business.com.ua/event/rivne-invest-forum-2026-zbere-ponad-500-investoriv-ta-pidpryyemcziv-8-9-travnya/
END:VEVENT
END:VCALENDAR